Workbook

Sheet 制作スケジュール
B1: Hotほんべつ制作スケジュール | S1: 43684
B3: カテゴリー | C3: To Do | D3: 担当 | E3: 状況 | F3: 6月 | J3: 7月 | O3: 8月 | S3: 備考
F4: 2-8 | G4: 9-15 | H4: 16-22 | I4: 23-29 | J4: 30-6 | K4: 7-13 | L4: 14-20 | M4: 21-27 | N4: 28-3 | O4: 4-10 | P4: 11-17 | Q4: 18-24 | R4: 25-31
B5: サイトデザイン | C5: サイトイメージアイデア出し | D5: 部会 | E5: 完了
C6: サイトイメージ作り | D6: 研究所 | E6: 完了
C7: サイトデザイン（一次） | D7: 研究所 | E7: 完了
C8: サイトデザインすり合わせ | D8: 部会
C9: サイト内文章作成 | D9: 研究所
C10: サイトデザイン（二次） | D10: 研究所
C11: サイトデザイン完成
B12: コンテンツ作成 | C12: コンテンツ収集一次リスト | D12: 研究所 | E12: 完了
C13: コンテンツリストの見直し（一次） | D13: 部会 | E13: 完了
C14: インタビュー | D14: 研究所
C15: インタビュー記事作成 | D15: 研究所
C16: コンテンツ収集 | D16: 研究所＆部会
C17: コンテンツテキスト作成 | D17: 研究所＆部会
C18: 掲載許可（必要ある先） | D18: 研究所＆部会
B19: サイト運用準備 | C19: 掲載者アカウント発行 | D19: 研究所
C20: 掲載者へのマニュアル配布 | D20: 研究所＆部会
C21: ブログ/求人掲載依頼 | D21: 研究所＆部会
C22: デモサイト（１次）完成 | D22: 研究所
C23: デモサイト（２次）完成 | D23: 研究所
C24: デモ運用 | D24: 研究所＆部会
C25: 本サイトオープン
B26: サイト運用 | C26: モニタリング | D26: 研究所
C27: 問合せ対応 | D27: 研究所
C28: コンテンツアップデート継続 | D28: 研究所＆部会
C29: 今後のバージョンアップ検討 | D29: 研究所＆部会

Sheet コンテンツ一覧
B1: コンテンツ収集状況 | N1: 43699
B3: カテゴリー | C3: スポット名 | D3: 場所 | E3: 選定理由 | F3: 取材 終了 | G3: 取材 予定 | H3: インタビュー | I3: 記事 作成 | J3: 使用 確認 | K3: 求人 情報 | L3: カテゴリー | M3: 補足説明 | N3: 備考
B4: イベント | C4: こども七夕祭り | D4: 実行委員会 | H4: 〇 | L4: インフラ | M4: 写真提供いただく
C5: 肉祭り | D5: 実行委員会 | F5: 〇 | H5: 〇 | L5: インフラ
C6: ビア彩 | D6: 商工会青年部 | L6: インフラ
C7: スターフェスティバル | D7: 銀河通り商工会 | L7: インフラ
C8: はしご酒 | D8: 有志実行委員会 | L8: インフラ
C9: ひまわり迷路 | D9: 前田農産 | F9: 〇 | H9: 〇 | L9: インフラ
C10: 夜でかけナイト | D10: 商工会 | L10: インフラ
C11: ほんべつ夏まつり | D11: 商工会 | L11: インフラ
C12: きらめきタウンフェスティバル | D12: 実行委員会 | H12: 〇 | L12: インフラ
C13: アメニティ夏まつり | D13: アメニティ | L13: インフラ
C14: 清流の里夏祭り | D14: 社協 | L14: インフラ
C15: 陽だまりの里夏祭り | D15: 社協 | L15: インフラ
C16: ゆうあいの里夏祭り | D16: 社協 | L16: インフラ
C17: 老人ホーム夏祭り | D17: 老人ホーム | L17: インフラ
C18: スポーツフェスティバル | D18: 教育委員会 | L18: インフラ
C19: いきいき本別ふれあい祭り | D19: 実行委員会 | L19: インフラ
C20: 文化祭 | D20: 文化協会 | L20: インフラ
C21: ツリーフェスティバル | D21: 実行委員会 | E21: 木材信仰 | H21: 〇 | L21: インフラ
C22: クリスマスコンサート（ブラス） | L22: インフラ
C23: 冬あかりナイト | D23: 道の駅 | E23: 河合歯科 | H23: 〇 | L23: インフラ
C24: 豆まかナイト | D24: 実行委員会 | H24: 〇 | L24: インフラ
C25: 勇足地区公民館祭り | D25: 勇足地区自治会 | E25: 辰年会S24 | H25: 〇 | L25: インフラ
C26: ぱまキッズまつり | D26: 発達支援センター | L26: インフラ
C27: 高齢者文化祭 | D27: 教育委員会 | L27: インフラ
C28: Go Go介護 | F28: 〇 | G28: 〇 | L28: インフラ | M28: 今あるものを活用
C29: その他町内のイベント | E29: 人に紐づけしたい | L29: インフラ | M29: 写真提供いただく
B31: 食べる | C31: 源すし | D31: 本別市街 | E31: 池田さん | F31: 〇 | H31: 〇 | L31: コミュニティ | M31: 今あるのもを活用
C32: Ｔｏｔｔｅ | D32: 本別市街 | E32: 尾崎さん | F32: 〇 | H32: 〇 | L32: コミュニティ | M32: 今あるのもを活用
C33: 浮舟 | D33: 本別市街 | F33: 〇 | H33: 〇 | I33: 〇 | L33: プライベート | M33: 43609
C34: カウキング | D34: 本別市街 | H34: 〇 | L34: インフラ
C35: 酒一筋 | D35: 本別市街 | F35: 〇 | H35: × | L35: インフラ | M35: 43609 | N35: インタビュー＆顔出しNG
C36: 北国 | D36: 本別市街
C37: 給食センター | E37: 山川さん | F37: 〇 | L37: インフラ | M37: 今あるのもを活用
C38: エトワール | D38: 本別市街 | E38: 高校生訪問 | F38: 〇 | L38: インフラ | M38: 43631 | N38: 高校生
C39: エリート | D39: 本別市街 | G39: 〇
C40: 義経の館 | D40: 本別公園 | G40: 〇 | L40: インフラ
C41: やまぐち発酵食品 | D41: 本別市街 | F41: 〇 | H41: 〇 | L41: インフラ
C42: 松月堂 | D42: 本別市街 | F42: 〇 | H42: 〇 | L42: コミュニティ | M42: 43631
...

Sheet 子供七夕
A1: =コンテンツ一覧!C4 -> こども七夕祭り
A4: イベント | D4: メインメッセージ
A6: 写真 | I6: ”この人”に聞く
I7: 役職 名前
I9: 写真
I17: ＜文章＞
A22: =A1 -> こども七夕祭り | H22: ＜説明文＞
A24: 郵便 | B24: 住所
A25: 電話
A26: URL
A27: FB、TW、Insta

Sheet 肉祭り
A1: ほんべつ肉まつり
A4: イベント | D4: メインメッセージ
A6: 写真 | I6: ”この人”に聞く
I7: 役職 名前
I9: 写真
I17: ＜文章＞
A22: =A1 -> ほんべつ肉まつり | H22: ＜説明文＞
A24: 郵便 | B24: 中川郡本別町東町56-39
A25: 電話
A26: URL | B26: https://www.walkerplus.com/event/ar0101e352804/data.html
A27: FB、TW、Insta

Sheet ビア彩
A1: 樽生ビアー彩
A4: イベント | D4: メインメッセージ
A6: 写真 | I6: ”この人”に聞く
I7: 役職 名前
I9: 写真
I17: ＜文章＞
A22: =A1 -> 樽生ビアー彩 | H22: ＜説明文＞
A24: 郵便 | B24: 北海道中川郡本別町北２丁目４−１
A25: 電話 | B25: 0156-22-2529
A26: URL | B26: https://www.town.honbetsu.hokkaido.jp/sightseeing/fes/details/beerfes.html
A27: FB、TW、Insta

Sheet ｽﾀｰﾌｪｽﾃｨﾊﾞﾙ
A1: ｽﾀｰﾌｪｽﾃｨﾊﾞﾙ
A4: イベント | D4: メインメッセージ
A6: 写真 | I6: ”この人”に聞く
I7: 役職 名前
I9: 写真
I17: ＜文章＞
A22: =A1 -> ｽﾀｰﾌｪｽﾃｨﾊﾞﾙ | H22: ＜説明文＞
A24: 郵便 | B24: 北海道中川郡本別町北４丁目３−１０
A25: 電話
A26: URL | B26: https://www.town.honbetsu.hokkaido.jp/sightseeing/fes/details/post.html
A27: FB、TW、Insta

Sheet はしご酒
A1: はしご酒
A4: イベント | D4: メインメッセージ
A6: 写真 | I6: 写真２
I14: 写真３
A22: =A1 -> はしご酒 | H22: ＜説明文＞
A24: 郵便 | B24: 住所
A25: 電話
A26: URL
A27: FB、TW、Insta

Sheet ひまわり迷路
A1: =コンテンツ一覧!C9 -> ひまわり迷路
A4: イベント | D4: メインメッセージ
A6: 写真 | I6: ”この人”に聞く
I7: 役職 名前
I9: 写真
I17: ＜文章＞
A22: =A1 -> ひまわり迷路 | H22: ＜説明文＞
A24: 郵便 | B24: 住所
A25: 電話
A26: URL | B26: https://www.town.honbetsu.hokkaido.jp/sightseeing/fes/details/himawari.html
A27: FB、TW、Insta

Sheet 夜でかけﾅｲﾄ
A1: 夜でかけナイト
A4: イベント | D4: メインメッセージ
A6: 写真 | I6: ”この人”に聞く
I7: 役職 名前
I9: 写真
I17: ＜文章＞
A22: =A1 -> 夜でかけナイト | H22: ＜説明文＞
A24: 郵便 | B24: 住所
A25: 電話
A26: URL
A27: FB、TW、Insta

Sheet ほんべつ夏まつり
A1: ほんべつ夏まつり
A4: イベント | D4: メインメッセージ
A6: 写真 | I6: 写真２
I14: 写真３
A22: =A1 -> ほんべつ夏まつり | H22: ＜説明文＞
A24: 郵便 | B24: 北海道中川郡本別町北２丁目４−１
A25: 電話
A26: URL | B26: https://www.town.honbetsu.hokkaido.jp/sightseeing/fes/details/bonfestivaldance.html
A27: FB、TW、Insta

Sheet きらめきﾀｳﾝﾌｪｽﾃｨﾊﾞﾙ
A1: 本別きらめきタウンフェスティバル
A4: イベント | D4: メインメッセージ
A6: 写真 | I6: ”この人”に聞く
I7: 役職 名前
I9: 写真
I17: ＜文章＞
A22: =A1 -> 本別きらめきタウンフェスティバル | H22: ＜説明文＞
A24: 郵便 | B24: 住所
A25: 電話 | B25: 0156-22-2141
A26: URL | B26: https://www.town.honbetsu.hokkaido.jp/kirameki/news/details/9192.html
A27: FB、TW、Insta

Sheet ｱﾒﾆﾃｨ夏まつり
A1: アメニティ夏まつり
A4: イベント | D4: メインメッセージ
A6: 写真 | I6: 写真２
I14: 写真３
A22: =A1 -> アメニティ夏まつり | H22: ＜説明文＞
A24: 郵便 | B24: 中川郡本別町西美里別6-18
A25: 電話 | B25: 0156-22-9311
A26: URL | B26: https://hombetu.exblog.jp/16165030/
A27: FB、TW、Insta

Sheet 清流の里夏祭り
A1: 清流里夏祭り
A4: イベント | D4: メインメッセージ
A6: 写真 | I6: ”この人”に聞く
I7: 役職 名前
I9: 写真
I17: ＜文章＞
A22: =A1 -> 清流里夏祭り | H22: ＜説明文＞
A24: 郵便 | B24: 住所
A25: 電話
A26: URL
A27: FB、TW、Insta

Sheet 陽だまりの里夏祭り
A1: 陽だまりの里夏祭り
A4: イベント | D4: メインメッセージ
A6: 写真 | I6: 写真２
I14: 写真３
A22: =A1 -> 陽だまりの里夏祭り | H22: ＜説明文＞
A24: 郵便 | B24: 住所
A25: 電話
A26: URL | B26: https://hombetu.exblog.jp/16221264/
A27: FB、TW、Insta

Sheet ゆうあいの里夏祭り
A1: ゆうあいの里夏祭り
A4: イベント | D4: メインメッセージ
A6: 写真 | I6: ”この人”に聞く
I7: 役職 名前
I9: 写真
I17: ＜文章＞
A22: =A1 -> ゆうあいの里夏祭り | H22: ＜説明文＞
A24: 郵便 | B24: 住所
A25: 電話
A26: URL
A27: FB、TW、Insta

Sheet 老人ﾎｰﾑ夏祭り
A1: 老人ホーム夏祭り
A4: イベント | D4: メインメッセージ
A6: 写真 | I6: 写真２
I14: 写真３
A22: =A1 -> 老人ホーム夏祭り | H22: ＜説明文＞
A24: 郵便 | B24: 住所
A25: 電話
A26: URL
A27: FB、TW、Insta

Sheet ｽﾎﾟｰﾂﾌｪｽﾃｨﾊﾞﾙ
A1: スポーツフェスティバル
A4: イベント | D4: メインメッセージ
A6: 写真 | I6: ”この人”に聞く
I7: 役職 名前
I9: 写真
I17: ＜文章＞
A22: =A1 -> スポーツフェスティバル | H22: ＜説明文＞
A24: 郵便 | B24: 住所
A25: 電話
A26: URL
A27: FB、TW、Insta

Sheet いきいきほんべつふれあい祭り
A1: いきいき本別ふれあい祭り
A4: イベント | D4: メインメッセージ
A6: 写真 | I6: 写真２
I14: 写真３
A22: =A1 -> いきいき本別ふれあい祭り | H22: ＜説明文＞
A24: 郵便 | B24: 住所
A25: 電話
A26: URL
A27: FB、TW、Insta

Sheet 文化祭
A1: 文化祭
A4: イベント | D4: メインメッセージ
A6: 写真 | I6: ”この人”に聞く
I7: 役職 名前
I9: 写真
I17: ＜文章＞
A22: =A1 -> 文化祭 | H22: ＜説明文＞
A24: 郵便 | B24: 住所
A25: 電話
A26: URL
A27: FB、TW、Insta

Sheet ｸﾘｽﾏｽｺﾝｻｰﾄ
A1: クリスマスコンサート（プラス）
A4: イベント | D4: メインメッセージ
A6: 写真 | I6: 写真２
I14: 写真３
A22: =A1 -> クリスマスコンサート（プラス） | H22: ＜説明文＞
A24: 郵便 | B24: 住所
A25: 電話
A26: URL | B26: https://hombetu.exblog.jp/17338138/
A27: FB、TW、Insta

Sheet 冬あかりﾅｲﾄ
A1: 道の駅「ステラ★ほんべつ」冬あかり
A4: イベント | D4: メインメッセージ
A6: 写真 | I6: ”この人”に聞く
I7: 役職 名前
I9: 写真
I17: ＜文章＞
A22: =A1 -> 道の駅「ステラ★ほんべつ」冬あかり | H22: ＜説明文＞
A24: 郵便 | B24: 住所
A25: 電話 | B25: 0156-22-5819
A26: URL | B26: https://www.town.honbetsu.hokkaido.jp/sightseeing/fes/details/wintercandle.html
A27: FB、TW、Insta

Sheet 豆まかﾅｲﾄ
A1: ほんべつ豆まかナイト
A4: イベント | D4: メインメッセージ
A6: 写真 | I6: 写真２
I14: 写真３
A22: =A1 -> ほんべつ豆まかナイト | H22: ＜説明文＞
A24: 郵便 | B24: 住所
A25: 電話
A26: URL | B26: https://www.town.honbetsu.hokkaido.jp/sightseeing/fes/details/mamemakanight.html
A27: FB、TW、Insta

Sheet 勇足地区公民館祭り
A1: 勇足地区公民館祭り
A4: イベント | D4: メインメッセージ
A6: 写真 | I6: ”この人”に聞く
I7: 役職 名前
I9: 写真
I17: ＜文章＞
A22: =A1 -> 勇足地区公民館祭り | H22: ＜説明文＞
A24: 郵便 | B24: 本別町勇足元町
A25: 電話 | B25: 0156-22-5111
A26: URL | B26: https://www.town.honbetsu.hokkaido.jp/web/education/details/post_64.html
A27: FB、TW、Insta

Sheet ぱまｷｯｽﾞまつり
A1: ぱまキッズまつり
A4: イベント | D4: メインメッセージ
A6: 写真 | I6: 写真２
I14: 写真３
A22: =A1 -> ぱまキッズまつり | H22: ＜説明文＞
A24: 郵便 | B24: 住所
A25: 電話
A26: URL
A27: FB、TW、Insta

Sheet 高齢者文化祭
A1: 高齢者文化祭
A4: イベント | D4: メインメッセージ
A6: 写真 | I6: ”この人”に聞く
I7: 役職 名前
I9: 写真
I17: ＜文章＞
A22: =A1 -> 高齢者文化祭 | H22: ＜説明文＞
A24: 郵便 | B24: 住所
A25: 電話
A26: URL
A27: FB、TW、Insta

Sheet GOGO介護
A1: GOGO介護
A4: イベント | D4: メインメッセージ
A6: 写真 | I6: ”この人”に聞く
I7: 役職 名前
I9: 写真
I17: ＜文章＞
A22: =A1 -> GOGO介護 | H22: ＜説明文＞
A24: 郵便 | B24: 住所
A25: 電話 | B25: 0156-22-9222
A26: URL | B26: https://www.town.honbetsu.hokkaido.jp/web/welfare/details/gogo.html
A27: FB、TW、Insta

Sheet その他
A1: その他町内のｲﾍﾞﾝﾄ
A4: イベント | D4: メインメッセージ
A6: 写真 | I6: ”この人”に聞く
I7: 役職 名前
I9: 写真
I17: ＜文章＞
A22: =A1 -> その他町内のｲﾍﾞﾝﾄ | H22: ＜説明文＞
A24: 郵便 | B24: 住所
A25: 電話
A26: URL
A27: FB、TW、Insta

Sheet 源すし
A1: =コンテンツ一覧!C31 -> 源すし
A4: =コンテンツ一覧!B31 -> 食べる | D4: 海の無いほんべつ町で、人と地域をつなぐお寿司屋さん
A6: 写真 | I6: ”この人”に聞く
I7: 代表 池田圭吾さん
I9: 写真
I17: インタビュー引用
A22: =A1 -> 源すし | H22: 海のないほんべつ町で最高のお寿司を食べたい方が集う寿司屋です。特にマグロに関しては十勝で一番良いものを提供しています。他にも、地元の特産品を用いたり、魚はもちろんですがそれ以外にもこだわるようにしています！
A24: 〒089-3334 | B24: 北海道中川郡本別町北4-4-12
A25: 電話 | B25: 0156-22-2488
A26: URL | B26: https://www.town.honbetsu.hokkaido.jp/sightseeing/eat/details/gensusi.html
A27: FB、TW、Insta

Sheet Totte
A1: おやきやTOTTE（とって）
A4: =コンテンツ一覧!B31 -> 食べる
A6: 写真 | I6: ”この人”に聞く
I9: 写真
I17: インタビュー引用
A22: =A1 -> おやきやTOTTE（とって）
A24: 〒089-3334 | B24: 北海道中川郡本別町北3-4
A25: 電話 | B25: 01562-2-4756
A26: URL | B26: https://www.town.honbetsu.hokkaido.jp/sightseeing/eat/details/totte.html
A27: FB、TW、Insta

Sheet 浮舟
A1: =コンテンツ一覧!C33 -> 浮舟
A4: =コンテンツ一覧!B31 -> 食べる | D4: 著名人もこのためだけにわざわざ訪れるトンテキの名店。
A6: 写真 | I6: ”この人”に聞く
I7: 代表 角（すみ） 誠（まこと）さん
I9: 写真
I17: インタビューより
A22: =A1 -> 浮舟 | H22: ほんべつ人なら誰しもが知っている“トンテキ”の名店。肉厚で大きなその肉の塊には度肝を抜かれる。 芸能人等の著名人をはじめ、多くの人々が浮舟の“トンテキ”を食べるためだけにこの町を訪れる。そんな見た目も、お腹も、心も満たしてくれる。
A24: 郵便 | B24: 北海道中川郡本別町北2-2-1
A25: 電話 | B25: 0156-22-2356 0156-22-2356
A26: URL
A27: FB、TW、Insta

Sheet ｶｳｷﾝｸﾞ
A1: カウキング （Cow King）
A4: =コンテンツ一覧!B31 -> 食べる
A6: 写真 | I6: ”この人”に聞く
I9: 写真
I17: インタビュー引用
A22: =A1 -> カウキング （Cow King）
A24: 郵便 | B24: 北海道 中川郡本別町 北 1丁目4-36
A25: 電話 | B25: 0156-22-7666
A26: URL | B26: http://www.obnv.com/w_food/620/menu.html
A27: FB、TW、Insta

Sheet 酒一筋
A1: 居酒屋 酒一筋（さけひとすじ）
A4: =コンテンツ一覧!B31 -> 食べる
A6: 写真 | I6: ”この人”に聞く
I9: 写真
I17: インタビュー引用
A22: =A1 -> 居酒屋 酒一筋（さけひとすじ）
A24: 郵便 | B24: 北海道中川郡本別町北3-4-18
A25: 電話 | B25: 0156-22-2090
A26: URL | B26: https://www.town.honbetsu.hokkaido.jp/sightseeing/eat/details/sakehitosuji.html
A27: FB、TW、Insta

Sheet 北国
A1: 居酒屋 北国（きたぐに）
A4: =コンテンツ一覧!B31 -> 食べる
A6: 写真 | I6: ”この人”に聞く
I9: 写真
I17: インタビュー引用
A22: =A1 -> 居酒屋 北国（きたぐに）
A24: 〒089-3334 | B24: 北海道中川郡本別町北２丁目２−１
A25: 電話 | B25: 0156-22-5885
A26: URL | B26: https://www.town.honbetsu.hokkaido.jp/sightseeing/eat/details/kitaguni.html
A27: FB、TW、Insta

Sheet 給食ｾﾝﾀｰ
A1: 学校給食共同調理場（給食センター）
A4: =コンテンツ一覧!B31 -> 食べる
A6: 写真 | I6: ”この人”に聞く
I9: 写真
I17: インタビュー引用
A22: =A1 -> 学校給食共同調理場（給食センター）
A24: 089-3308 | B24: 北海道中川郡本別町弥生町35番地1
A25: 電話 | B25: 0156-22-3226
A26: URL | B26: https://www.town.honbetsu.hokkaido.jp/web/education/details/kyushokucenter.html
A27: FB、TW、Insta

Sheet ｴﾘｰﾄ
A1: ミュージックプラザ エリート
A4: =コンテンツ一覧!B31 -> 食べる
A6: 写真 | I6: ”この人”に聞く
I9: 写真
I17: インタビュー引用
A22: =A1 -> ミュージックプラザ エリート
A24: 089-3334 | B24: 北海道中川郡本別町北4-7-2
A25: 電話 | B25: 0156-22-2704
A26: URL | B26: https://www.town.honbetsu.hokkaido.jp/sightseeing/eat/details/elite.html
A27: FB、TW、Insta

Sheet 義経の館
A1: 本別公園 義経の館
A4: =コンテンツ一覧!B31 -> 食べる
A6: 写真 | I6: ”この人”に聞く
I9: 写真
I17: インタビュー引用
A22: =A1 -> 本別公園 義経の館
A24: 郵便 | B24: 本別町東町51番地
A25: 電話 | B25: 0156-22-4441
A26: URL | B26: https://www.town.honbetsu.hokkaido.jp/sightseeing/eat/details/post_3.html
A27: FB、TW、Insta

Sheet やまぐち発酵食品
A1: 有限会社やまぐち発酵食品
A4: =コンテンツ一覧!B31 -> 食べる
A6: 写真 | I6: ”この人”に聞く
I9: 写真
I17: インタビュー引用
A22: =A1 -> 有限会社やまぐち発酵食品
A24: 〒089-3314 | B24: 北海道中川郡本別町南2丁目2番地14
A25: 電話 | B25: 0156-22-2342
A26: URL | B26: https://www.nattou-kozou.jp/
A27: FB、TW、Insta

Sheet 松月堂
A1: おかしの松月堂
A4: =コンテンツ一覧!B31 -> 食べる
A6: 写真 | I6: ”この人”に聞く
I9: 写真
I17: インタビュー引用
A22: =A1 -> おかしの松月堂
A24: 089-3334 | B24: 北海道中川郡本別町北3丁目3ー7
A25: 電話 | B25: 0156-22-2560
A26: URL | B26: https://www.facebook.com/syougetsu/
A27: FB、TW、Insta

Sheet かねもり
A1: 欧風ケーキ工房 かねもり
A4: =コンテンツ一覧!B31 -> 食べる
A6: 写真 | I6: ”この人”に聞く
I9: 写真
I17: インタビュー引用
A22: =A1 -> 欧風ケーキ工房 かねもり
A24: 郵便 | B24: 本別町北3丁目
A25: 電話 | B25: 0156-22-3749
A26: URL | B26: https://www.town.honbetsu.hokkaido.jp/sightseeing/eat/details/kanemori.html
A27: FB、TW、Insta

Sheet 渋谷醸造
A1: 渋谷醸造株式会社
A4: =コンテンツ一覧!B31 -> 食べる
A6: 写真 | I6: ”この人”に聞く
I9: 写真
I17: インタビュー引用
A22: =A1 -> 渋谷醸造株式会社
A24: 〒089-3305 | B24: 北海道中川郡本別町共栄１４番地３
A25: 電話 | B25: 0156-22-2077
A26: URL | B26: http://sibuyajyozo.co.jp/
A27: FB、TW、Insta

Sheet 岡女堂
A1: 株式会社 豆屋とかち 岡女堂本家
A4: =コンテンツ一覧!B31 -> 食べる
A6: 写真 | I6: ”この人”に聞く
I9: 写真
I17: インタビュー引用
A22: =A1 -> 株式会社 豆屋とかち 岡女堂本家
A24: 郵便 | B24: 北海道中川郡本別町共栄18番地8
A25: 電話 | B25: 0156-22-5981
A26: URL | B26: http://www.okamedou.com/
A27: FB、TW、Insta

Sheet ﾌﾞﾗﾝｼﾞｪﾘｰｼｭｳ
A1: ブーランジェリー・シュウ
A4: =コンテンツ一覧!B31 -> 食べる
A6: 写真 | I6: ”この人”に聞く
I9: 写真
I17: インタビュー引用
A22: =A1 -> ブーランジェリー・シュウ
A24: 郵便 | B24: 北海道中川郡本別町北1-4-7
A25: 電話 | B25: 0156-22-1525
A26: URL | B26: https://www.town.honbetsu.hokkaido.jp/sightseeing/eat/details/shu.html
A27: FB、TW、Insta

Sheet 前田農産
A1: 前田農産
A4: =コンテンツ一覧!B31 -> 食べる
A6: 写真 | I6: ”この人”に聞く
I9: 写真
I17: インタビュー引用
A22: =A1 -> 前田農産
A24: 郵便 | B24: 北海道中川郡本別町弥生町２７－１
A25: 電話 | B25: 0156-22-8680
A26: URL | B26: https://www.co-mugi.jp/
A27: FB、TW、Insta

Sheet 小笠原牧場
A1: 小笠原牧場
A4: =コンテンツ一覧!B31 -> 食べる
A6: 写真 | I6: ”この人”に聞く
I9: 写真
I17: インタビュー引用
A22: =A1 -> 小笠原牧場
A24: 郵便 | B24: 本別町仙美里15-3
A25: 電話 | B25: 0156-22-5213
A26: URL | B26: http://agricenter-obihiro.jp/food/producer/3000035
A27: FB、TW、Insta

Sheet 道の駅
A1: =コンテンツ一覧!C50 -> 道の駅
A4: 暮らす | D4: メインメッセージ
A6: 写真 | I6: ”この人”に聞く
I7: 役職 名前
I9: 写真
I17: ＜文章＞
A22: =A1 -> 道の駅 | H22: ＜説明文＞
A24: 郵便 | B24: 中川郡本別町北3丁目1番地1（国道242号沿い）
A25: 電話 | B25: 0156-22-5819
A26: URL | B26: http://www.hokkaido-michinoeki.jp/michinoeki/3021/
A27: FB、TW、Insta

Sheet ﾌｸﾊﾗ
A1: フクハラ 本別店
A4: 暮らす
A6: 写真 | I6: ”この人”に聞く
I9: 写真
I17: インタビュー引用
A22: =A1 -> フクハラ 本別店
A24: 郵便 | B24: 中川郡本別町南1丁目2-25
A25: 電話 | B25: 0156-22-2980
A26: URL | B26: http://www.arcs-g.co.jp/group/fukuhara/shop/?id=151
A27: FB、TW、Insta

Sheet 本高
A1: =コンテンツ一覧!C52 -> 本別高校
A4: 暮らす | D4: メインメッセージ
A6: 写真 | I6: ”この人”に聞く
I7: 役職 名前
I9: 写真
I17: ＜文章＞
A22: =A1 -> 本別高校 | H22: ＜説明文＞
A24: 郵便 | B24: 本別町弥生町49-2
A25: 電話 | B25: 0156-22-2052
A26: URL | B26: http://www.honbetsu.hokkaido-c.ed.jp/
A27: FB、TW、Insta

Sheet こども園
A1: 認定こども園ほんべつ
A4: 暮らす
A6: 写真 | I6: ”この人”に聞く
I9: 写真
I17: インタビュー引用
A22: =A1 -> 認定こども園ほんべつ
A24: 郵便 | B24: 本別町南3丁目16番地4
A25: 電話 | B25: 0156-22-2520
A26: URL | B26: https://www.kodomoen-honbetsu.com/
A27: FB、TW、Insta

Sheet 本別中央小
A1: 本別中央小学校
A4: 暮らす
A6: 写真 | I6: ”この人”に聞く
I9: 写真
I17: インタビュー引用
A22: =A1 -> 本別中央小学校
A24: 郵便 | B24: 本別町弥生町22番地
A25: 電話 | B25: 0156-22-2039
A26: URL | B26: https://www.town.honbetsu.hokkaido.jp/web/education/details/primaryschool.html
A27: FB、TW、Insta

Sheet TAP内田
A1: 税理士法人 TAP
A4: 暮らす
A6: 写真 | I6: ”この人”に聞く
I9: 写真
I17: インタビュー引用
A22: =A1 -> 税理士法人 TAP
A24: 郵便 | B24: 中川郡本別町南3丁目1番地9
A25: 電話 | B25: 0156-22-4787
A26: URL | B26: http://www.zeirishitap.com/
A27: FB、TW、Insta

Sheet 平田司法書士
A1: 司法書士・行政書士 平田峻太事務所
A4: 暮らす
A6: 写真 | I6: ”この人”に聞く
I9: 写真
I17: インタビュー引用
A22: =A1 -> 司法書士・行政書士 平田峻太事務所
A24: 郵便 | B24: 北海道中川郡本別町 南３丁目１番地１
A25: 電話 | B25: 0156-22-1616
A26: URL | B26: https://www.honbetsu-legal.com/
A27: FB、TW、Insta

Sheet 企画振興課
A1: 企画振興課
A4: 暮らす
A6: 写真 | I6: ”この人”に聞く
I9: 写真
I17: インタビュー引用
A22: =A1 -> 企画振興課
A24: 郵便 | B24: 北海道中川郡本別町北2丁目4番地1
A25: 電話 | B25: 0156-22-8121
A26: URL | B26: https://www.town.honbetsu.hokkaido.jp/web/administration/details/post_77.html
A27: FB、TW、Insta

Sheet こども未来課
A1: 子ども未来課
A4: 暮らす
A6: 写真 | I6: ”この人”に聞く
I9: 写真
I17: インタビュー引用
A22: =A1 -> 子ども未来課
A24: 郵便 | B24: 北海道中川郡本別町北2丁目4番地1
A25: 電話 | B25: 0156-22-8130
A26: URL | B26: https://www.town.honbetsu.hokkaido.jp/web/administration/details/post_80.html
A27: FB、TW、Insta

Sheet 高橋町長
A1: 高橋正夫
A4: 暮らす
A6: 写真 | I6: ”この人”に聞く
I9: 写真
I17: インタビュー引用
A22: =A1 -> 高橋正夫
A24: 郵便 | B24: 住所
A25: 電話
A26: URL | B26: https://www.town.honbetsu.hokkaido.jp/web/townmayor/index.html
A27: FB、TW、Insta

Sheet 病院
A1: =コンテンツ一覧!C62 -> 本別町国保病院
A4: =コンテンツ一覧!B62 -> 命を支える | D4: 十勝から、小さくともキラリと光る地域に根差した医療を提供する町立病院
A6: 写真 | I6: ”この人”に聞く
I7: 副院長 郡山先生
I9: 写真
I17: ＜文章＞
A22: =A1 -> 本別町国保病院 | H22: ほんべつ町唯一の病床を持つ医療機関。365日の救急から、町民の安心の一般外来、いざという時の入院、健康診断から人間ドックまで、ほんべつの地域医療を支えています。
A24: ０８９－３３０６ | B24: 北海道中川郡本別町西美里別6-8
A25: 電話 | B25: 0156-22-2025
A26: URL | B26: http://www.honbetsu-kokuho-hp.jp/index.html
A27: FB、TW、Insta

Sheet 総合ｹｱ飯山
A1: 総合ケアセンター
A4: =コンテンツ一覧!B62 -> 命を支える
A6: 写真 | I6: ”この人”に聞く
I9: 写真
I17: インタビュー引用
A22: =A1 -> 総合ケアセンター
A24: 郵便 | B24: 本別町西美里別6-15（太陽の丘）
A25: 電話 | B25: 0156-22-8520
A26: URL | B26: https://www.town.honbetsu.hokkaido.jp/web/facility/details/post_18.html
A27: FB、TW、Insta

Sheet 総合ｹｱ門田
A1: 総合ケアセンター
A4: =コンテンツ一覧!B62 -> 命を支える
A6: 写真 | I6: ”この人”に聞く
I9: 写真
I17: インタビュー引用
A22: =A1 -> 総合ケアセンター
A24: 郵便 | B24: 本別町西美里別6-15（太陽の丘）
A25: 電話 | B25: 0156-22-8520
A26: URL | B26: https://www.town.honbetsu.hokkaido.jp/web/facility/details/post_18.html
A27: FB、TW、Insta

Sheet 清流の里
A1: 本別北「清流の里」
A4: =コンテンツ一覧!B62 -> 命を支える | D4: メインメッセージ
A6: 写真 | I6: 写真２
I14: 写真３
A22: =A1 -> 本別北「清流の里」 | H22: ＜説明文＞
A24: 郵便 | B24: 本別町北6丁目12番地20
A25: 電話 | B25: 0156-22-1001
A26: URL | B26: https://www.town.honbetsu.hokkaido.jp/web/welfare/details/post_37.html
A27: FB、TW、Insta

Sheet ゆうあいの里
A1: 勇足小規模多機能型居宅介護事業所「ゆうあいの里」
A4: =コンテンツ一覧!B62 -> 命を支える | D4: メインメッセージ
A6: 写真 | I6: ”この人”に聞く
I7: 役職 名前
I9: 写真
I17: ＜文章＞
A22: =A1 -> 勇足小規模多機能型居宅介護事業所「ゆうあいの里」 | H22: ＜説明文＞
A24: 郵便 | B24: 北海道中川郡本別町勇足元町6-1
A25: 電話 | B25: 0156-23-9000
A26: URL | B26: https://www.town.honbetsu.hokkaido.jp/web/welfare/details/post_36.html
A27: FB、TW、Insta

Sheet 健康管理ｾﾝﾀｰ
A1: 健康管理センター
A4: =コンテンツ一覧!B62 -> 命を支える | D4: メインメッセージ
A6: 写真 | I6: 写真２
I14: 写真３
A22: =A1 -> 健康管理センター | H22: ＜説明文＞
A24: 郵便 | B24: 本別町北6丁目11-4
A25: 電話 | B25: 0156-22-2219
A26: URL | B26: https://www.town.honbetsu.hokkaido.jp/web/facility/details/post_21.html
A27: FB、TW、Insta

Sheet 特養
A1: 本別町特別養護老人ホーム
A4: =コンテンツ一覧!B62 -> 命を支える | D4: メインメッセージ
A6: 写真 | I6: ”この人”に聞く
I7: 役職 名前
I9: 写真
I17: ＜文章＞
A22: =A1 -> 本別町特別養護老人ホーム | H22: ＜説明文＞
A24: 郵便 | B24: 本別町向陽町23番地1
A25: 電話 | B25: 0156-22-2794
A26: URL | B26: https://www.town.honbetsu.hokkaido.jp/web/welfare/details/post_21.html
A27: FB、TW、Insta

Sheet ｱﾒﾆﾃｨ本別
A1: アメニティ本別
A4: =コンテンツ一覧!B62 -> 命を支える | D4: メインメッセージ
A6: 写真 | I6: 写真２
I14: 写真３
A22: =A1 -> アメニティ本別 | H22: ＜説明文＞
A24: 郵便 | B24: 中川郡本別町西美里別6-18
A25: 電話 | B25: 0156-22-9311
A26: URL | B26: http://toukeikai.or.jp/amenityhonbetsu/
A27: FB、TW、Insta

Sheet あさひの里
A1: 認知症高齢者グループホーム「あさひの里」
A4: =コンテンツ一覧!B62 -> 命を支える | D4: メインメッセージ
A6: 写真 | I6: ”この人”に聞く
I7: 役職 名前
I9: 写真
I17: ＜文章＞
A22: =A1 -> 認知症高齢者グループホーム「あさひの里」 | H22: ＜説明文＞
A24: 郵便 | B24: 本別町柏木町156番地1
A25: 電話 | B25: 0156-22-4387
A26: URL | B26: https://www.town.honbetsu.hokkaido.jp/web/welfare/details/post_39.html
A27: FB、TW、Insta

Sheet 本別公園
A1: =コンテンツ一覧!C74 -> 本別公園
A4: 遊ぶ・体験する | D4: メインメッセージ
A6: 写真 | I6: ”この人”に聞く
I7: 役職 名前
I9: 写真
I17: ＜文章＞
A22: =A1 -> 本別公園 | H22: ＜説明文＞
A24: 郵便 | B24: 本別町東町56-39
A25: 電話 | B25: 0156-22-4441
A26: URL | B26: https://www.town.honbetsu.hokkaido.jp/sightseeing/spot/details/post.html
A27: FB、TW、Insta

Sheet 神居山展望台
A1: 神居山展望台
A4: 遊ぶ・体験する
A6: 写真 | I6: ”この人”に聞く
I7: 役職 名前
I9: 写真
I17: ＜文章＞
A22: =A1 -> 神居山展望台 | H22: ＜説明文＞
A24: 郵便 | B24: 北海道中川郡本別町東本別
A25: 電話
A26: URL
A27: FB、TW、Insta

Sheet 星空を体験
A1: 星空を体験する
A4: 遊ぶ・体験する
A6: 写真 | I6: ”この人”に聞く
I7: 役職 名前
I9: 写真
I17: ＜文章＞
A22: =A1 -> 星空を体験する | H22: ＜説明文＞
A24: 郵便 | B24: 住所
A25: 電話
A26: URL
A27: FB、TW、Insta

Sheet 日帰り温泉
A4: 遊ぶ・体験する
A6: 写真 | I6: ”この人”に聞く
I7: 役職 名前
I9: 写真
I17: ＜文章＞
A22: =A1 -> 0 | H22: ＜説明文＞
A24: 郵便 | B24: 住所
A25: 電話
A26: URL
A27: FB、TW、Insta

Sheet げんｷｯﾁﾝ
A1: 農産物ものづくり館（ゲンキッチン）
A4: 遊ぶ・体験する
A6: 写真 | I6: ”この人”に聞く
I7: 役職 名前
I9: 写真
I17: ＜文章＞
A22: =A1 -> 農産物ものづくり館（ゲンキッチン） | H22: ＜説明文＞
A24: 郵便 | B24: 本別町北3丁目1-1
A25: 電話 | B25: 0156-22-6688
A26: URL | B26: https://www.town.honbetsu.hokkaido.jp/web/facility/details/post_37.html
A27: FB、TW、Insta

Sheet 地域の祭
A4: 遊ぶ・体験する
A6: 写真 | I6: ”この人”に聞く
I7: 役職 名前
I9: 写真
I17: ＜文章＞
A22: =A1 -> 0 | H22: ＜説明文＞
A24: 郵便 | B24: 住所
A25: 電話
A26: URL
A27: FB、TW、Insta

Sheet 地域のｲﾍﾞﾝﾄ
A4: 遊ぶ・体験する
A6: 写真 | I6: ”この人”に聞く
I7: 役職 名前
I9: 写真
I17: ＜文章＞
A22: =A1 -> 0 | H22: ＜説明文＞
A24: 郵便 | B24: 住所
A25: 電話
A26: URL
A27: FB、TW、Insta

Sheet 自然を感じる
A4: 遊ぶ・体験する
A6: 写真 | I6: ”この人”に聞く
I7: 役職 名前
I9: 写真
I17: ＜文章＞
A22: =A1 -> 0 | H22: ＜説明文＞
A24: 郵便 | B24: 住所
A25: 電話
A26: URL
A27: FB、TW、Insta

Sheet 収穫を体感
A4: 遊ぶ・体験する
A6: 写真 | I6: ”この人”に聞く
I7: 役職 名前
I9: 写真
I17: ＜文章＞
A22: =A1 -> 0 | H22: ＜説明文＞
A24: 郵便 | B24: 住所
A25: 電話
A26: URL
A27: FB、TW、Insta

Sheet 十勝ﾌﾞﾙｰ
A4: 遊ぶ・体験する
A6: 写真 | I6: ”この人”に聞く
I7: 役職 名前
I9: 写真
I17: ＜文章＞
A22: =A1 -> 0 | H22: ＜説明文＞
A24: 郵便 | B24: 住所
A25: 電話
A26: URL
A27: FB、TW、Insta

Sheet しばれるを
A4: 遊ぶ・体験する
A6: 写真 | I6: ”この人”に聞く
I7: 役職 名前
I9: 写真
I17: ＜文章＞
A22: =A1 -> 0 | H22: ＜説明文＞
A24: 郵便 | B24: 住所
A25: 電話
A26: URL
A27: FB、TW、Insta

Sheet 温泉ホテル
A1: =コンテンツ一覧!C86 -> 本別温泉グランドホテル
A4: 遊ぶ・体験する | D4: ほんべつ町で唯一の温泉付きリゾートホテル。町民の憩いの場。
A6: 写真 | I6: ”この人”に聞く
I7: 役職 名前
I9: 写真
I17: ＜文章＞
A22: =A1 -> 本別温泉グランドホテル | H22: ＜説明文＞
A24: 郵便 | B24: 北海道中川郡本別町西美里別20
A25: 電話 | B25: 0156-22-3101
A26: URL | B26: http://honbetsuonsen.com/onsen/
A27: FB、TW、Insta

Sheet 弓削旅館
A1: 弓削旅館
A4: 遊ぶ・体験する | D4: メインメッセージ
A6: 写真 | I6: ”この人”に聞く
I7: 役職 名前
I9: 写真
I17: ＜文章＞
A22: =A1 -> 弓削旅館 | H22: ＜説明文＞
A24: 郵便 | B24: 北海道中川郡本別町北3-4-17
A25: 電話 | B25: 0156-22-2312
A26: URL | B26: 0156-22-2312
A27: FB、TW、Insta

Sheet ｷｬﾝﾌﾟ村
A1: 静山キャンプ村・バンガロー
A4: 遊ぶ・体験する
A6: 写真 | I6: ”この人”に聞く
I7: 役職 名前
I9: 写真
I17: ＜文章＞
A22: =A1 -> 静山キャンプ村・バンガロー | H22: ＜説明文＞
A24: 郵便 | B24: 北海道中川郡本別町東町
A25: 電話 | B25: 0156-22-4441
A26: URL | B26: https://www.town.honbetsu.hokkaido.jp/sightseeing/park/details/1.html
A27: FB、TW、Insta

Sheet 義経の里御所
A1: 義経の里御所（ごしょ）
A4: 遊ぶ・体験する | D4: メインメッセージ
A6: 写真 | I6: ”この人”に聞く
I7: 役職 名前
I9: 写真
I17: ＜文章＞
A22: =A1 -> 義経の里御所（ごしょ） | H22: ＜説明文＞
A24: 郵便 | B24: 本別町東町
A25: 電話 | B25: 0156-22-4441
A26: URL | B26: https://www.town.honbetsu.hokkaido.jp/sightseeing/park/details/post_3.html
A27: FB、TW、Insta

Sheet 商工会青年部
A1: 本別町商工会
A4: つながる
A6: 写真 | I6: ”この人”に聞く
I7: 役職 名前
I9: 写真
I17: ＜文章＞
A22: =A1 -> 本別町商工会 | H22: ＜説明文＞
A24: 郵便 | B24: 北海道中川郡本別町北1丁目4番地19
A25: 電話 | B25: 0156-22-2529
A26: URL | B26: http://www.honbetsu.or.jp/
A27: FB、TW、Insta

Sheet 自治会
A4: つながる | D4: メインメッセージ
A6: 写真 | I6: ”この人”に聞く
I7: 役職 名前
I9: 写真
I17: ＜文章＞
A22: =A1 -> 0 | H22: ＜説明文＞
A24: 郵便 | B24: 住所
A25: 電話
A26: URL
A27: FB、TW、Insta

Sheet ｻｰｸﾙ
A4: つながる
A6: 写真 | I6: ”この人”に聞く
I7: 役職 名前
I9: 写真
I17: ＜文章＞
A22: =A1 -> 0 | H22: ＜説明文＞
A24: 郵便 | B24: 住所
A25: 電話
A26: URL
A27: FB、TW、Insta

Sheet 在宅FN
A1: =コンテンツ一覧!C95 -> 在宅福祉ネットワーク
A4: つながる | D4: メインメッセージ
A6: 写真 | I6: 写真２
I14: 写真３
A22: =A1 -> 在宅福祉ネットワーク | H22: ＜説明文＞
A24: 郵便 | B24: 住所
A25: 電話
A26: URL | B26: https://www.shakyo.or.jp/hp/article/index.php?s=166&m=789
A27: FB、TW、Insta

Sheet 100人飲み会
A4: つながる
A6: 写真 | I6: ”この人”に聞く
I7: 役職 名前
I9: 写真
I17: ＜文章＞
A22: =A1 -> 0 | H22: ＜説明文＞
A24: 郵便 | B24: 住所
A25: 電話
A26: URL
A27: FB、TW、Insta

Sheet 梅村議員
A4: カテゴリー | D4: メインメッセージ
A6: 写真 | I6: ”この人”に聞く
I7: 役職 名前
I9: 写真
I17: ＜文章＞
A22: =A1 -> 0 | H22: ＜説明文＞
A24: 郵便 | B24: 住所
A25: 電話
A26: URL
A27: FB、TW、Insta

Sheet 荒井さん
A4: =コンテンツ一覧!B74 -> 遊ぶ・体験する
A6: 写真 | I6: ”この人”に聞く
I7: 役職 名前
I9: 写真
I17: ＜文章＞
A22: =A1 -> 0 | H22: ＜説明文＞
A24: 郵便 | B24: 住所
A25: 電話
A26: URL
A27: FB、TW、Insta

Sheet 高橋町長2
A4: カテゴリー | D4: メインメッセージ
A6: 写真 | I6: ”この人”に聞く
I7: 役職 名前
I9: 写真
I17: ＜文章＞
A22: =A1 -> 0 | H22: ＜説明文＞
A24: 郵便 | B24: 住所
A25: 電話
A26: URL
A27: FB、TW、Insta

Sheet 資料館
A4: =コンテンツ一覧!B74 -> 遊ぶ・体験する
A6: 写真 | I6: ”この人”に聞く
I7: 役職 名前
I9: 写真
I17: ＜文章＞
A22: =A1 -> 0 | H22: ＜説明文＞
A24: 郵便 | B24: 住所
A25: 電話
A26: URL
A27: FB、TW、Insta

Sheet Form１
A1: 名称
A4: カテゴリー | D4: メインメッセージ
A6: 写真 | I6: ”この人”に聞く
I7: 役職 名前
I9: 写真
I17: ＜文章＞
A22: =A1 -> 名称 | H22: ＜説明文＞
A24: 郵便 | B24: 住所
A25: 電話
A26: URL
A27: FB、TW、Insta

Sheet Form２
A1: 名称
A4: カテゴリー | D4: メインメッセージ
A6: 写真 | I6: 写真２
I14: 写真３
A22: =A1 -> 名称 | H22: ＜説明文＞
A24: 郵便 | B24: 住所
A25: 電話
A26: URL
A27: FB、TW、Insta

Sheet →印刷対象外

Sheet インタビュー案
A1: 自分らしい生き方をしている人々 | F1: 43601
A3: １．メインテーマ
B4: 「自分らしい生き方に出会えるまち、ほんべつ」
A6: ２．ほんべつらしい生き方
B7: ①コミュニティにかかわる
C8: ＜コミュニティにかかわる生き方とは＞
C9: 地域との距離が近いから実現できる生き方
C10: 町が本気で地域の課題に向き合っているから
C11: 地域の若者が真剣に語り合う場があるから
C13: ＜生き方を選択している人たち＞
D14: 源すし | E14: 池田さん | F14: 源すしの大将。商工会青年部前部長
D15: 国保病院 | E15: 郡山先生 | F15: 国保病院副院長。名古屋出身の移住者。
D16: ケアセンター | E16: 飯山さん | F16: 本別生まれ、本別育ちの看護師から保健師
D17: TOTTE | E17: 尾崎さん | F17: 本別の祖母の介護を機に本別移住。本別にてお焼きやＴｏｔｔｅを企業。若者が集う場所へ
D18: 前田農産 | E18: 前田さん | F18: 本別発で小麦や、ポップコーン用とうもろこしを生産。ひまわり迷路など地域のイベントに関わる
C20: 選択肢
D21: １）福祉でまちづくりに関わる | F21: 病院、包括、その他福祉職での勤務
D22: ２）地域おこし協力隊 | F22: 協力隊として地域に関わりながら将来の定住の布石にする
D23: ３）イベントに参加する | F23: 地域包括ケア等のイベントに参加するところから移住への布石にする
D24: ４）体験住宅を申し込む | F24: 体験住宅に申し込むことで移住につなげる
B26: ②プライベートを充実させる
C27: ＜プライベートを充実させる生き方とは＞
C28: 北海道という大自然ととなり併せで暮らすから実現する生き方
C29: 十勝という穀倉地帯だからはじめられる
C30: 福祉に力をいれてきたから実現できる子育て環境
C32: ＜生き方を選択している人たち＞
D33: 移住者 | E33: 谷口さん | F33: 札幌出身、大阪からの移住者。シングルマザー。管理栄養士の資格を活かして、豆の広報活動を独自にしている
D34: 移住者 | E34: 医師 | F34: 鳥取からの移住者。30代世帯持ち。医療につかれて、就農するために移住
D35: 移住者 | E35: 石上さん | F35: 釧路出身？もとミュージシャンを目指し、ニューヨークなど放浪。その後医療事務として働き、本別に移住
C37: 選択肢
D38: １）体験住宅を申し込む | F38: 体験しながらプライベートを主にした生活を体験する
D39: ２）地域に泊まって体験する | F39: 宿泊することを通じて地域の魅力を知る
D40: ３）地域のイベントに参加する | F40: 地域のイベントに参加することで、プライベートを軸にした生き方のイメージを深める
D41: ４）移住関連資料を取り寄せる | F41: 資料を送り、連絡先を得る。次のコンタクトにつなげる
B43: ③チャレンジする
C44: ＜チャレンジする生き方とは＞
D45: 受け入れてくれる町だからチャレンジできる
D46: 若手経営者たちが集う場があるから悩みながら進める
D47: 過疎地だから地域の中でかけがえのない存在になれる
C49: ＜生き方を選択している人たち＞
...

Sheet インタビュー内容案
A1: インタビュー内容案
A3: ０．インタビューにあたって
B4: インタビュー内容案は、あくまでどのようなことを全体を通して聴きたいかのイメージを共有するために作成しています。したがって、この項目をすべて聞き出さなければならないものではありません。 また、インタビューを通じて得たいものは、”本別らしさ”を体現している人々の物語（ストーリー）です。人はストーリーを通じて、本別に関心を持ち、それを自分のストーリーに重ね合わせます。したがって、奇抜な答えなどを期待しているわけではなく、「ああ、そうなんだ」というある種当たり前だけれども、本質をとらえた言葉を聞き出して、それをストーリーとして紡いでいただきたいと考えています。 したがって、最低限の項目を抑えていただきながら、インタビュアーが深めたい、話し手が伝えたいと思っている空気感を大切にしてみてください。
A6: １．移住者向け
B7: 質問 | C7: 質問の意図
B8: あなたはなぜ移住を考えたのですか？ | C8: 移住を考えるきっかけが誰にもあるはず。その移住によって解決しようと思った背景にある課題と、それが解決する要素（＝本別の良さ）を知りたい
B9: あなたが本別に来た直接のきっかけはなんですか？ | C9: 移住を考えるきっかけとは別に、本別という町にたどり着いた直接的なきっかけがあるはず。例えば、〇〇さんが居たから、この景色にあこがれたから、こんな出会いがあったから、町のこんな移住施策があることを知ったから、など
B10: あなたが考える本別の魅力は何ですか？ | C10: その移住者の視点で見ている本別の良さを聞き出したい。できればただ単に、自然がきれい、食べ物がおいしい、とかでなく、もっと本別らしい魅力に移住者はきっと気が付いているはず
B11: 移住するにあたって不安なことはありましたか？それは解決されましたか？ | C11: 移住者が考える不安なことをどう解決したのか、実は不安なことは大きな問題でなかったことなどを聞きたい。 例えば、寒さ、雪、仕事（キャリア）、人間関係、住宅問題、子育て 他
B12: 本別での暮らしで困っていることはありますか？ | C12: 上記と同様だが、より生活の中での課題にフォーカスしてほしい
B13: 今何をしていますか？ | C13: その人が移住してきてどのようなことで生計を立てているかを知る。また、何か移住者らしい新しい取り組みなどをしているものなどにフォーカスする。
B14: プライベートはどんな様子ですか？移住前と変わったことはありますか？ | C14: プライベートがどのように変わったのかを深ぼりたい。例えば、時間の使い方、趣味の内容、食べ物、その他など
B15: 町や自治会やその他活動など地域との関わりはありますか？ | C15: 地域とのつながりの深い本別らしい活動へのかかわりなどを知りたい。祭りや自治会活動の様な公的なものだけでなく、日々の暮らしでご近所さんとの付き合いや、単にご近所さんとの挨拶をしていることなどささやかなことなども含め、都会にはない本別らしい良さを聞きたい
B16: 地域で新しい人間関係を構築できていますか？ | C16: 移住者であれば誰もが不安に思うことであり、これをどう乗り越えてきたのか、こんなセーフティネットがあるというようなことも含め、移住者しか感じてこれなかった工夫などを聞きたい
B17: 今後はどのような将来の設計を考えていますか？ | C17: 移住前と移住後で大きく人生設計が変化しているはず。本別に来たからこそ見えた今後の人生設計を聞き、本別らしい生き方を知りたい
B18: 子育ての環境はいかがですか？ | C18: 子育て世代にとっての大きな関心事。保育、学校、塾のこと、医療などのサポート。公的な支援や、地域の子育てにおける関わり。その他、子育て世代同士のかかわりやコミュニティなどの存在を知りたい。
B19: これから移住を考える人に、一言メッセージをお願いします。 | C19: 移住者だからこそ発信することができるメッセージを聞いてみてください
A21: ２．本別出身者向け
B22: 質問 | C22: 質問の意図
B23: 本別の一番好きなところは何ですか？ | C23: 出身者ならではが感じる身近ないいところを深ぼりたい。できればその好きなところが何故好きなのかを深めたい。
B24: あなたにとって本別はどのような町ですか？ | C24: 本別っ子だからこそ大切にしている本別らしさの様なものを沢山集めたい。
B25: 本別町外に出ようと思ったことはありますか？ | C25: 本音の部分で町を出ようとしたこと、それを何故思いとどまったのか、実際に出て戻ってきたからこそ感じる思いなどを知りたい。
B26: 町の行事や公的な役割などにかかわっていますか？ | C26: 地域とのかかわりが密接な本別らしい地域の住民の実態など、地域の住民からすると当たり前だと思われるようなことをあえて集めたい。
B27: 自治会の活動やボランティア活動などにかかわっていますか？ | C27: 同上だが、よりボランタリーな活動などにフォーカス。
B28: あなたの趣味はなんですか？ | C28: 当たり前に本別でできる趣味が、意外に都会に住んでいる人には新鮮であったりするので、それを聞いてみたい。
B29: あなたが一番大切にしていることはなんですか？ | C29: 本別町民の感覚と都会に暮らす人々の感覚はおそらく異なると考えられ、本別町民の価値観を知ることで、それに共感する人々へ届けたい。
B30: あなたは将来本別町がどのような町になっていてほしいと考えていますか？ | C30: 町民の将来に対する思いが、今後の本別がどうなっていくかに関する期待感になると考えられる
B31: その中であなたが関われそうなことはありますか？ | C31: コミュニティとつながっている本別町民の姿を伝えられれば。
B32: 一言メッセージをお願いします。 | C32: 町民のメッセージなどを集めていければという観点。本別らしい言葉を紡いでいくことで魅力を発信したい。
